BEGIN:VCALENDAR
VERSION:2.0
PRODID:-//Schweizlogistik - ECPv6.15.11//NONSGML v1.0//EN
CALSCALE:GREGORIAN
METHOD:PUBLISH
X-WR-CALNAME:Schweizlogistik
X-ORIGINAL-URL:https://www.schweizlogistik.ch
X-WR-CALDESC:Veranstaltungen für Schweizlogistik
REFRESH-INTERVAL;VALUE=DURATION:PT1H
X-Robots-Tag:noindex
X-PUBLISHED-TTL:PT1H
BEGIN:VTIMEZONE
TZID:Europe/Zurich
BEGIN:DAYLIGHT
TZOFFSETFROM:+0100
TZOFFSETTO:+0200
TZNAME:CEST
DTSTART:20190331T010000
END:DAYLIGHT
BEGIN:STANDARD
TZOFFSETFROM:+0200
TZOFFSETTO:+0100
TZNAME:CET
DTSTART:20191027T010000
END:STANDARD
BEGIN:DAYLIGHT
TZOFFSETFROM:+0100
TZOFFSETTO:+0200
TZNAME:CEST
DTSTART:20200329T010000
END:DAYLIGHT
BEGIN:STANDARD
TZOFFSETFROM:+0200
TZOFFSETTO:+0100
TZNAME:CET
DTSTART:20201025T010000
END:STANDARD
BEGIN:DAYLIGHT
TZOFFSETFROM:+0100
TZOFFSETTO:+0200
TZNAME:CEST
DTSTART:20210328T010000
END:DAYLIGHT
BEGIN:STANDARD
TZOFFSETFROM:+0200
TZOFFSETTO:+0100
TZNAME:CET
DTSTART:20211031T010000
END:STANDARD
END:VTIMEZONE
BEGIN:VEVENT
DTSTART;TZID=Europe/Zurich:20200310T090000
DTEND;TZID=Europe/Zurich:20200312T170000
DTSTAMP:20260421T232026
CREATED:20200121T080820Z
LAST-MODIFIED:20200304T204333Z
UID:1406-1583830800-1584032400@www.schweizlogistik.ch
SUMMARY:LogiMAT 2020 in Stuttgart wurde ABGESAGT
DESCRIPTION:  \nMehr Infos finden Sie unter: www.logimat-messe.de
URL:https://www.schweizlogistik.ch/event/logimat-2020-in-stuttgart/
END:VEVENT
END:VCALENDAR